BEGIN:VCALENDAR
VERSION:2.0
PRODID:-//Lampman Family Centre - ECPv6.15.20//NONSGML v1.0//EN
CALSCALE:GREGORIAN
METHOD:PUBLISH
X-WR-CALNAME:Lampman Family Centre
X-ORIGINAL-URL:https://www.lampmanfamilycentre.ca
X-WR-CALDESC:Events for Lampman Family Centre
REFRESH-INTERVAL;VALUE=DURATION:PT1H
X-Robots-Tag:noindex
X-PUBLISHED-TTL:PT1H
BEGIN:VTIMEZONE
TZID:America/Regina
BEGIN:STANDARD
TZOFFSETFROM:-0600
TZOFFSETTO:-0600
TZNAME:CST
DTSTART:20240101T000000
END:STANDARD
END:VTIMEZONE
BEGIN:VEVENT
DTSTART;TZID=America/Regina:20250324T093000
DTEND;TZID=America/Regina:20250324T103000
DTSTAMP:20260419T165005
CREATED:20250103T174228Z
LAST-MODIFIED:20250305T142205Z
UID:666-1742808600-1742812200@www.lampmanfamilycentre.ca
SUMMARY:Toddler Cooking
DESCRIPTION:Come make easy kid friendly food crafts\, and learn basic safety skills with Mrs. Stacey. \nWe will only accept a total of 8 kids at a time so book your spot early. \nAges 1 to 5 \nPlease submit payment to coordinator.lfc@gmail.com \nPlease enable JavaScript in your browser to complete this form.Please enable JavaScript in your browser to complete this form.Name of participant (s) *FirstLastParent / Gardian name if underaged *FirstLastChild/Children's Age(s) *Phone Number *		\n			name Phone (s)\n			\n		\n		Email *Do we have permission to post photos? *YesNoComments or QuestionsSubmit
URL:https://www.lampmanfamilycentre.ca/event/toddler-cooking/
LOCATION:Lampman Legion\, 314 Main St\, Lampman\, SK\, Canada
CATEGORIES:Cooking
ATTACH;FMTTYPE=image/jpeg:https://www.lampmanfamilycentre.ca/wp-content/uploads/2024/10/Cooking-small.jpg
END:VEVENT
END:VCALENDAR