BEGIN:VCALENDAR
VERSION:2.0
PRODID:-//Lampman Family Centre - ECPv6.15.20//NONSGML v1.0//EN
CALSCALE:GREGORIAN
METHOD:PUBLISH
X-WR-CALNAME:Lampman Family Centre
X-ORIGINAL-URL:https://www.lampmanfamilycentre.ca
X-WR-CALDESC:Events for Lampman Family Centre
REFRESH-INTERVAL;VALUE=DURATION:PT1H
X-Robots-Tag:noindex
X-PUBLISHED-TTL:PT1H
BEGIN:VTIMEZONE
TZID:America/Regina
BEGIN:STANDARD
TZOFFSETFROM:-0600
TZOFFSETTO:-0600
TZNAME:CST
DTSTART:20230101T000000
END:STANDARD
END:VTIMEZONE
BEGIN:VEVENT
DTSTART;TZID=America/Regina:20241202T180000
DTEND;TZID=America/Regina:20241202T190000
DTSTAMP:20260422T231138
CREATED:20241105T132251Z
LAST-MODIFIED:20241120T170236Z
UID:422-1733162400-1733166000@www.lampmanfamilycentre.ca
SUMMARY:Pine Cone Flower Arrangement
DESCRIPTION:Join us for a creative\, hands-on workshop where you’ll craft a beautiful floral arrangement using pine cones and seasonal blooms. Learn simple techniques to create a nature-inspired design that adds rustic charm to any space. All materials provided by us \nPerfect for all skill levels – children under 5 should bring a parent \nRoom 3 at the school \nPlease submit payment by e-transfer to coordinator.lfc@gmail.com \nRegistration deadline: November 24th \nPlease enable JavaScript in your browser to complete this form.Please enable JavaScript in your browser to complete this form.Name of participant(s) *FirstLastParent / Gardian name if underagedFirstLastChild/Children's Age(s)Phone Number *Email *Do we have permission to post photos? *YesNo		\n			Child/Children's / Questions\n			\n		\n		Comments or QuestionsSubmit
URL:https://www.lampmanfamilycentre.ca/event/pine-cone-flower-arrangement/
LOCATION:Lampman School room 3\, Lampman\, SK\, Canada
CATEGORIES:Craft
ATTACH;FMTTYPE=image/jpeg:https://www.lampmanfamilycentre.ca/wp-content/uploads/2024/11/pine-cone-6885951_640.jpg
END:VEVENT
END:VCALENDAR